BEGIN:VCALENDAR
VERSION:2.0
PRODID:-//horsealert.local//NONSGML kigkonsult.se iCalcreator 2.10.5//
CALSCALE:GREGORIAN
X-WR-TIMEZONE:Europe/Dublin
BEGIN:VTIMEZONE
TZID:Etc/GMT-1
BEGIN:STANDARD
DTSTART:20010101T000000
TZOFFSETFROM:+0100
TZOFFSETTO:+0100
TZNAME:GMT +01:00
END:STANDARD
END:VTIMEZONE
BEGIN:VEVENT
UID:20260423T183106CEST-8452JpsjMi@horsealert.local
DTSTAMP:20260423T160406Z
CATEGORIES:Horse Alerts
DESCRIPTION:Queally Group Celebrating 35 Years In Naas Punchestown Champion
  Hurdle \(Grade 1\)
DTSTART:20150501T173000
LOCATION:Eire
SUMMARY:Horse Racing:Queally Group Celebrating 35 Years In Naas Punchestown
  Champion Hurdle \(Grade 1\)
END:VEVENT
END:VCALENDAR
