BEGIN:VCALENDAR
VERSION:2.0
PRODID:-//horsealert.local//NONSGML kigkonsult.se iCalcreator 2.10.5//
CALSCALE:GREGORIAN
X-WR-TIMEZONE:Europe/Dublin
BEGIN:VTIMEZONE
TZID:Etc/GMT-1
BEGIN:STANDARD
DTSTART:20010101T000000
TZOFFSETFROM:+0100
TZOFFSETTO:+0100
TZNAME:GMT +01:00
END:STANDARD
END:VTIMEZONE
BEGIN:VEVENT
UID:20260423T200859CEST-2728VDCd5i@horsealert.local
DTSTAMP:20260423T180459Z
CATEGORIES:Horse Alerts
DESCRIPTION:Free Bookmakers Bets At bookmakers.co.uk Handicap Chase
DTSTART:20150430T162000
LOCATION:England
SUMMARY:Horse Racing:Free Bookmakers Bets At bookmakers.co.uk Handicap Chas
 e
END:VEVENT
END:VCALENDAR
