BEGIN:VCALENDAR
VERSION:2.0
PRODID:-//horsealert.local//NONSGML kigkonsult.se iCalcreator 2.10.5//
CALSCALE:GREGORIAN
X-WR-TIMEZONE:Europe/Dublin
BEGIN:VTIMEZONE
TZID:Etc/GMT-1
BEGIN:STANDARD
DTSTART:20010101T000000
TZOFFSETFROM:+0100
TZOFFSETTO:+0100
TZNAME:GMT +01:00
END:STANDARD
END:VTIMEZONE
BEGIN:VEVENT
UID:20260423T201328CEST-3108UKm8iS@horsealert.local
DTSTAMP:20260423T180428Z
CATEGORIES:Horse Alerts
DESCRIPTION:Jennings Ford Transit 50th Anniversary Conditional Jockeys\' Ma
 iden Hurdle
DTSTART:20150430T134500
LOCATION:England
SUMMARY:Horse Racing:Jennings Ford Transit 50th Anniversary Conditional Joc
 keys\' Maiden Hurdle
END:VEVENT
END:VCALENDAR
