BEGIN:VCALENDAR
VERSION:2.0
PRODID:-//horsealert.local//NONSGML kigkonsult.se iCalcreator 2.10.5//
CALSCALE:GREGORIAN
X-WR-TIMEZONE:Europe/Dublin
BEGIN:VTIMEZONE
TZID:Etc/GMT-1
BEGIN:STANDARD
DTSTART:20010101T000000
TZOFFSETFROM:+0100
TZOFFSETTO:+0100
TZNAME:GMT +01:00
END:STANDARD
END:VTIMEZONE
BEGIN:VEVENT
UID:20260423T201145CEST-5769Ve8VPD@horsealert.local
DTSTAMP:20260423T180445Z
CATEGORIES:Horse Alerts
DESCRIPTION:Hunt Staff Benefit Society Hunters\' Chase \(For The United Hun
 ts Challenge Cup\)
DTSTART:20150429T175500
LOCATION:England
SUMMARY:Horse Racing:Hunt Staff Benefit Society Hunters\' Chase \(For The U
 nited Hunts Challenge Cup\)
END:VEVENT
END:VCALENDAR
