BEGIN:VCALENDAR
VERSION:2.0
PRODID:-//horsealert.local//NONSGML kigkonsult.se iCalcreator 2.10.5//
CALSCALE:GREGORIAN
X-WR-TIMEZONE:Europe/Dublin
BEGIN:VTIMEZONE
TZID:Etc/GMT-1
BEGIN:STANDARD
DTSTART:20010101T000000
TZOFFSETFROM:+0100
TZOFFSETTO:+0100
TZNAME:GMT +01:00
END:STANDARD
END:VTIMEZONE
BEGIN:VEVENT
UID:20260423T201224CEST-9695Mg0Aww@horsealert.local
DTSTAMP:20260423T180424Z
CATEGORIES:Horse Alerts
DESCRIPTION:Bibby Financial Services Ireland Punchestown Gold Cup \(Grade 1
 \)
DTSTART:20150429T173000
LOCATION:Eire
SUMMARY:Horse Racing:Bibby Financial Services Ireland Punchestown Gold Cup 
 \(Grade 1\)
END:VEVENT
END:VCALENDAR
