BEGIN:VCALENDAR
VERSION:2.0
PRODID:-//horsealert.local//NONSGML kigkonsult.se iCalcreator 2.10.5//
CALSCALE:GREGORIAN
X-WR-TIMEZONE:Europe/Dublin
BEGIN:VTIMEZONE
TZID:Etc/GMT-1
BEGIN:STANDARD
DTSTART:20010101T000000
TZOFFSETFROM:+0100
TZOFFSETTO:+0100
TZNAME:GMT +01:00
END:STANDARD
END:VTIMEZONE
BEGIN:VEVENT
UID:20260423T201231CEST-56850dOsdj@horsealert.local
DTSTAMP:20260423T180431Z
CATEGORIES:Horse Alerts
DESCRIPTION:William Hill Supports The NRC/British Stallion Studs EBF Maiden
  Stakes \(Plus 10\)
DTSTART:20150429T140000
LOCATION:England
SUMMARY:Horse Racing:William Hill Supports The NRC/British Stallion Studs E
 BF Maiden Stakes \(Plus 10\)
END:VEVENT
END:VCALENDAR
