BEGIN:VCALENDAR
VERSION:2.0
PRODID:-//horsealert.local//NONSGML kigkonsult.se iCalcreator 2.10.5//
CALSCALE:GREGORIAN
X-WR-TIMEZONE:Europe/Dublin
BEGIN:VTIMEZONE
TZID:Etc/GMT-1
BEGIN:STANDARD
DTSTART:20010101T000000
TZOFFSETFROM:+0100
TZOFFSETTO:+0100
TZNAME:GMT +01:00
END:STANDARD
END:VTIMEZONE
BEGIN:VEVENT
UID:20260423T201225CEST-3537U8g6EV@horsealert.local
DTSTAMP:20260423T180425Z
CATEGORIES:Horse Alerts
DESCRIPTION:William & Son Paradise Stakes \(Listed\) \(Str\)
DTSTART:20150429T163500
LOCATION:England
SUMMARY:Horse Racing:William & Son Paradise Stakes \(Listed\) \(Str\)
END:VEVENT
END:VCALENDAR
