BEGIN:VCALENDAR
VERSION:2.0
PRODID:-//horsealert.local//NONSGML kigkonsult.se iCalcreator 2.10.5//
CALSCALE:GREGORIAN
X-WR-TIMEZONE:Europe/Dublin
BEGIN:VTIMEZONE
TZID:Etc/GMT-1
BEGIN:STANDARD
DTSTART:20010101T000000
TZOFFSETFROM:+0100
TZOFFSETTO:+0100
TZNAME:GMT +01:00
END:STANDARD
END:VTIMEZONE
BEGIN:VEVENT
UID:20260423T201048CEST-2072sICokk@horsealert.local
DTSTAMP:20260423T180448Z
CATEGORIES:Horse Alerts
DESCRIPTION:Retraining Of Racehorses & Horseback UK EBF Stallions Stakes \(
 Fillies\' Conditions Race\) \(Rnd\)
DTSTART:20150429T150000
LOCATION:England
SUMMARY:Horse Racing:Retraining Of Racehorses & Horseback UK EBF Stallions 
 Stakes \(Fillies\' Conditions Race\) \(Rnd\)
END:VEVENT
END:VCALENDAR
