BEGIN:VCALENDAR
VERSION:2.0
PRODID:-//horsealert.local//NONSGML kigkonsult.se iCalcreator 2.10.5//
CALSCALE:GREGORIAN
X-WR-TIMEZONE:Europe/Dublin
BEGIN:VTIMEZONE
TZID:Etc/GMT-1
BEGIN:STANDARD
DTSTART:20010101T000000
TZOFFSETFROM:+0100
TZOFFSETTO:+0100
TZNAME:GMT +01:00
END:STANDARD
END:VTIMEZONE
BEGIN:VEVENT
UID:20260423T201142CEST-4568u7RUDm@horsealert.local
DTSTAMP:20260423T180442Z
CATEGORIES:Horse Alerts
DESCRIPTION:toteplacepot Racing\'s Favourite Bet Median Auction Maiden Fill
 ies\' Stakes
DTSTART:20150428T175500
LOCATION:England
SUMMARY:Horse Racing:toteplacepot Racing\'s Favourite Bet Median Auction Ma
 iden Fillies\' Stakes
END:VEVENT
END:VCALENDAR
