BEGIN:VCALENDAR
VERSION:2.0
PRODID:-//horsealert.local//NONSGML kigkonsult.se iCalcreator 2.10.5//
CALSCALE:GREGORIAN
X-WR-TIMEZONE:Europe/Dublin
BEGIN:VTIMEZONE
TZID:Etc/GMT-1
BEGIN:STANDARD
DTSTART:20010101T000000
TZOFFSETFROM:+0100
TZOFFSETTO:+0100
TZNAME:GMT +01:00
END:STANDARD
END:VTIMEZONE
BEGIN:VEVENT
UID:20260423T200803CEST-6042knNBcv@horsealert.local
DTSTAMP:20260423T180403Z
CATEGORIES:Horse Alerts
DESCRIPTION:Racing Again At Limerick Racecourse On 17th May Handicap \(47-6
 5\)
DTSTART:20150425T172500
LOCATION:Eire
SUMMARY:Horse Racing:Racing Again At Limerick Racecourse On 17th May Handic
 ap \(47-65\)
END:VEVENT
END:VCALENDAR
