BEGIN:VCALENDAR
VERSION:2.0
PRODID:-//horsealert.local//NONSGML kigkonsult.se iCalcreator 2.10.5//
CALSCALE:GREGORIAN
X-WR-TIMEZONE:Europe/Dublin
BEGIN:VTIMEZONE
TZID:Etc/GMT-1
BEGIN:STANDARD
DTSTART:20010101T000000
TZOFFSETFROM:+0100
TZOFFSETTO:+0100
TZNAME:GMT +01:00
END:STANDARD
END:VTIMEZONE
BEGIN:VEVENT
UID:20260423T201006CEST-0264pmE2Jo@horsealert.local
DTSTAMP:20260423T180406Z
CATEGORIES:Horse Alerts
DESCRIPTION:Dublin Gospel Choir Live At Limerick Racecourse On 6th June Mai
 den
DTSTART:20150425T151000
LOCATION:Eire
SUMMARY:Horse Racing:Dublin Gospel Choir Live At Limerick Racecourse On 6th
  June Maiden
END:VEVENT
END:VCALENDAR
