BEGIN:VCALENDAR
VERSION:2.0
PRODID:-//horsealert.local//NONSGML kigkonsult.se iCalcreator 2.10.5//
CALSCALE:GREGORIAN
X-WR-TIMEZONE:Europe/Dublin
BEGIN:VTIMEZONE
TZID:Etc/GMT-1
BEGIN:STANDARD
DTSTART:20010101T000000
TZOFFSETFROM:+0100
TZOFFSETTO:+0100
TZNAME:GMT +01:00
END:STANDARD
END:VTIMEZONE
BEGIN:VEVENT
UID:20260423T201329CEST-4439vpcUVp@horsealert.local
DTSTAMP:20260423T180429Z
CATEGORIES:Horse Alerts
DESCRIPTION:totepool EBF Stallions King Richard III Stakes \(Formerly The L
 eicestershire Stakes\) \(Listed\)
DTSTART:20150425T161500
LOCATION:England
SUMMARY:Horse Racing:totepool EBF Stallions King Richard III Stakes \(Forme
 rly The Leicestershire Stakes\) \(Listed\)
END:VEVENT
END:VCALENDAR
