BEGIN:VCALENDAR
VERSION:2.0
PRODID:-//horsealert.local//NONSGML kigkonsult.se iCalcreator 2.10.5//
CALSCALE:GREGORIAN
X-WR-TIMEZONE:Europe/Dublin
BEGIN:VTIMEZONE
TZID:Etc/GMT-1
BEGIN:STANDARD
DTSTART:20010101T000000
TZOFFSETFROM:+0100
TZOFFSETTO:+0100
TZNAME:GMT +01:00
END:STANDARD
END:VTIMEZONE
BEGIN:VEVENT
UID:20260423T200651CEST-4541nT0vke@horsealert.local
DTSTAMP:20260423T180451Z
CATEGORIES:Horse Alerts
DESCRIPTION:Send Your CV To Jobs at gpwrecruitment.com Handicap
DTSTART:20150425T171500
LOCATION:England
SUMMARY:Horse Racing:Send Your CV To Jobs at gpwrecruitment.com Handicap
END:VEVENT
END:VCALENDAR
