BEGIN:VCALENDAR
VERSION:2.0
PRODID:-//horsealert.local//NONSGML kigkonsult.se iCalcreator 2.10.5//
CALSCALE:GREGORIAN
X-WR-TIMEZONE:Europe/Dublin
BEGIN:VTIMEZONE
TZID:Etc/GMT-1
BEGIN:STANDARD
DTSTART:20010101T000000
TZOFFSETFROM:+0100
TZOFFSETTO:+0100
TZNAME:GMT +01:00
END:STANDARD
END:VTIMEZONE
BEGIN:VEVENT
UID:20260423T201146CEST-6768CoIFDs@horsealert.local
DTSTAMP:20260423T180446Z
CATEGORIES:Horse Alerts
DESCRIPTION:Free Trading Software Available On betdaq.com AJA Lady Riders\'
  Handicap \(Lady Amateur Riders\)
DTSTART:20150425T180000
LOCATION:England
SUMMARY:Horse Racing:Free Trading Software Available On betdaq.com AJA Lady
  Riders\' Handicap \(Lady Amateur Riders\)
END:VEVENT
END:VCALENDAR
