BEGIN:VCALENDAR
VERSION:2.0
PRODID:-//horsealert.local//NONSGML kigkonsult.se iCalcreator 2.10.5//
CALSCALE:GREGORIAN
X-WR-TIMEZONE:Europe/Dublin
BEGIN:VTIMEZONE
TZID:Etc/GMT-1
BEGIN:STANDARD
DTSTART:20010101T000000
TZOFFSETFROM:+0100
TZOFFSETTO:+0100
TZNAME:GMT +01:00
END:STANDARD
END:VTIMEZONE
BEGIN:VEVENT
UID:20260423T201008CEST-4817O84J15@horsealert.local
DTSTAMP:20260423T180408Z
CATEGORIES:Horse Alerts
DESCRIPTION:Saltire Stables At Perth Racecourse Conditional Jockeys\' Handi
 cap Hurdle
DTSTART:20150424T165000
LOCATION:Scotland
SUMMARY:Horse Racing:Saltire Stables At Perth Racecourse Conditional Jockey
 s\' Handicap Hurdle
END:VEVENT
END:VCALENDAR
