BEGIN:VCALENDAR
VERSION:2.0
PRODID:-//horsealert.local//NONSGML kigkonsult.se iCalcreator 2.10.5//
CALSCALE:GREGORIAN
X-WR-TIMEZONE:Europe/Dublin
BEGIN:VTIMEZONE
TZID:Etc/GMT-1
BEGIN:STANDARD
DTSTART:20010101T000000
TZOFFSETFROM:+0100
TZOFFSETTO:+0100
TZNAME:GMT +01:00
END:STANDARD
END:VTIMEZONE
BEGIN:VEVENT
UID:20260423T201311CEST-43671AhTwv@horsealert.local
DTSTAMP:20260423T180411Z
CATEGORIES:Horse Alerts
DESCRIPTION:Horse Racing 15th May Maiden
DTSTART:20150424T210500
LOCATION:Eire
SUMMARY:Horse Racing:Horse Racing 15th May Maiden
END:VEVENT
END:VCALENDAR
