BEGIN:VCALENDAR
VERSION:2.0
PRODID:-//horsealert.local//NONSGML kigkonsult.se iCalcreator 2.10.5//
CALSCALE:GREGORIAN
X-WR-TIMEZONE:Europe/Dublin
BEGIN:VTIMEZONE
TZID:Etc/GMT-1
BEGIN:STANDARD
DTSTART:20010101T000000
TZOFFSETFROM:+0100
TZOFFSETTO:+0100
TZNAME:GMT +01:00
END:STANDARD
END:VTIMEZONE
BEGIN:VEVENT
UID:20260423T201133CEST-8409e9aZDA@horsealert.local
DTSTAMP:20260423T180433Z
CATEGORIES:Horse Alerts
DESCRIPTION:Betdaq Comm Free Football On Saturdays Fillies\' Handicap
DTSTART:20150424T152500
LOCATION:England
SUMMARY:Horse Racing:Betdaq Comm Free Football On Saturdays Fillies\' Handi
 cap
END:VEVENT
END:VCALENDAR
