BEGIN:VCALENDAR
VERSION:2.0
PRODID:-//horsealert.local//NONSGML kigkonsult.se iCalcreator 2.10.5//
CALSCALE:GREGORIAN
X-WR-TIMEZONE:Europe/Dublin
BEGIN:VTIMEZONE
TZID:Etc/GMT-1
BEGIN:STANDARD
DTSTART:20010101T000000
TZOFFSETFROM:+0100
TZOFFSETTO:+0100
TZNAME:GMT +01:00
END:STANDARD
END:VTIMEZONE
BEGIN:VEVENT
UID:20260423T200755CEST-37360x2WI1@horsealert.local
DTSTAMP:20260423T180455Z
CATEGORIES:Horse Alerts
DESCRIPTION:Marshall Glover Transport Solicitors Handicap
DTSTART:20150423T153000
LOCATION:England
SUMMARY:Horse Racing:Marshall Glover Transport Solicitors Handicap
END:VEVENT
END:VCALENDAR
