BEGIN:VCALENDAR
VERSION:2.0
PRODID:-//horsealert.local//NONSGML kigkonsult.se iCalcreator 2.10.5//
CALSCALE:GREGORIAN
X-WR-TIMEZONE:Europe/Dublin
BEGIN:VTIMEZONE
TZID:Etc/GMT-1
BEGIN:STANDARD
DTSTART:20010101T000000
TZOFFSETFROM:+0100
TZOFFSETTO:+0100
TZNAME:GMT +01:00
END:STANDARD
END:VTIMEZONE
BEGIN:VEVENT
UID:20260423T201146CEST-7702uKCkL8@horsealert.local
DTSTAMP:20260423T180446Z
CATEGORIES:Horse Alerts
DESCRIPTION:Promote Your Business At Fairyhouse In 2015 Handicap Chase \(0-
 102\)
DTSTART:20150422T192500
LOCATION:Eire
SUMMARY:Horse Racing:Promote Your Business At Fairyhouse In 2015 Handicap C
 hase \(0-102\)
END:VEVENT
END:VCALENDAR
