BEGIN:VCALENDAR
VERSION:2.0
PRODID:-//horsealert.local//NONSGML kigkonsult.se iCalcreator 2.10.5//
CALSCALE:GREGORIAN
X-WR-TIMEZONE:Europe/Dublin
BEGIN:VTIMEZONE
TZID:Etc/GMT-1
BEGIN:STANDARD
DTSTART:20010101T000000
TZOFFSETFROM:+0100
TZOFFSETTO:+0100
TZNAME:GMT +01:00
END:STANDARD
END:VTIMEZONE
BEGIN:VEVENT
UID:20260423T201052CEST-4738BrGv2x@horsealert.local
DTSTAMP:20260423T180452Z
CATEGORIES:Horse Alerts
DESCRIPTION:Dawn Homes Ayrshire Favourites Racing Excellence \'Hands And He
 els\' Finale Handicap Hurdle \(Conditional/Amateur\)
DTSTART:20150418T165500
LOCATION:Scotland
SUMMARY:Horse Racing:Dawn Homes Ayrshire Favourites Racing Excellence \'Han
 ds And Heels\' Finale Handicap Hurdle \(Conditional/Amateur\)
END:VEVENT
END:VCALENDAR
