BEGIN:VCALENDAR
VERSION:2.0
PRODID:-//horsealert.local//NONSGML kigkonsult.se iCalcreator 2.10.5//
CALSCALE:GREGORIAN
X-WR-TIMEZONE:Europe/Dublin
BEGIN:VTIMEZONE
TZID:Etc/GMT-1
BEGIN:STANDARD
DTSTART:20010101T000000
TZOFFSETFROM:+0100
TZOFFSETTO:+0100
TZNAME:GMT +01:00
END:STANDARD
END:VTIMEZONE
BEGIN:VEVENT
UID:20260423T201137CEST-6044Pu2p4J@horsealert.local
DTSTAMP:20260423T180437Z
CATEGORIES:Horse Alerts
DESCRIPTION:Jordan Electrics Ltd Future Champion Novices\' Chase \(Grade 2\
 )
DTSTART:20150418T140000
LOCATION:Scotland
SUMMARY:Horse Racing:Jordan Electrics Ltd Future Champion Novices\' Chase \
 (Grade 2\)
END:VEVENT
END:VCALENDAR
