BEGIN:VCALENDAR
VERSION:2.0
PRODID:-//horsealert.local//NONSGML kigkonsult.se iCalcreator 2.10.5//
CALSCALE:GREGORIAN
X-WR-TIMEZONE:Europe/Dublin
BEGIN:VTIMEZONE
TZID:Etc/GMT-1
BEGIN:STANDARD
DTSTART:20010101T000000
TZOFFSETFROM:+0100
TZOFFSETTO:+0100
TZNAME:GMT +01:00
END:STANDARD
END:VTIMEZONE
BEGIN:VEVENT
UID:20260423T200822CEST-5643u8oi4r@horsealert.local
DTSTAMP:20260423T180422Z
CATEGORIES:Horse Alerts
DESCRIPTION:Bet toteplacepot On All UK Meetings Amateur Riders\' Handicap
DTSTART:20150418T181000
LOCATION:England
SUMMARY:Horse Racing:Bet toteplacepot On All UK Meetings Amateur Riders\' H
 andicap
END:VEVENT
END:VCALENDAR
