BEGIN:VCALENDAR
VERSION:2.0
PRODID:-//horsealert.local//NONSGML kigkonsult.se iCalcreator 2.10.5//
CALSCALE:GREGORIAN
X-WR-TIMEZONE:Europe/Dublin
BEGIN:VTIMEZONE
TZID:Etc/GMT-1
BEGIN:STANDARD
DTSTART:20010101T000000
TZOFFSETFROM:+0100
TZOFFSETTO:+0100
TZNAME:GMT +01:00
END:STANDARD
END:VTIMEZONE
BEGIN:VEVENT
UID:20260423T201222CEST-6584AB72jg@horsealert.local
DTSTAMP:20260423T180422Z
CATEGORIES:Horse Alerts
DESCRIPTION:Dubai Duty Free Tennis Championships Maiden Stakes \(Div 2\) \(
 Str\)
DTSTART:20150418T171000
LOCATION:England
SUMMARY:Horse Racing:Dubai Duty Free Tennis Championships Maiden Stakes \(D
 iv 2\) \(Str\)
END:VEVENT
END:VCALENDAR
