BEGIN:VCALENDAR
VERSION:2.0
PRODID:-//horsealert.local//NONSGML kigkonsult.se iCalcreator 2.10.5//
CALSCALE:GREGORIAN
X-WR-TIMEZONE:Europe/Dublin
BEGIN:VTIMEZONE
TZID:Etc/GMT-1
BEGIN:STANDARD
DTSTART:20010101T000000
TZOFFSETFROM:+0100
TZOFFSETTO:+0100
TZNAME:GMT +01:00
END:STANDARD
END:VTIMEZONE
BEGIN:VEVENT
UID:20260423T201329CEST-8687Rfbj3l@horsealert.local
DTSTAMP:20260423T180429Z
CATEGORIES:Horse Alerts
DESCRIPTION:Dubai Duty Free Stakes \(Registered As The Fred Darling Stakes\
 ) \(Fillies\' Group 3\) \(Str\)
DTSTART:20150418T141500
LOCATION:England
SUMMARY:Horse Racing:Dubai Duty Free Stakes \(Registered As The Fred Darlin
 g Stakes\) \(Fillies\' Group 3\) \(Str\)
END:VEVENT
END:VCALENDAR
