BEGIN:VCALENDAR
VERSION:2.0
PRODID:-//horsealert.local//NONSGML kigkonsult.se iCalcreator 2.10.5//
CALSCALE:GREGORIAN
X-WR-TIMEZONE:Europe/Dublin
BEGIN:VTIMEZONE
TZID:Etc/GMT-1
BEGIN:STANDARD
DTSTART:20010101T000000
TZOFFSETFROM:+0100
TZOFFSETTO:+0100
TZNAME:GMT +01:00
END:STANDARD
END:VTIMEZONE
BEGIN:VEVENT
UID:20260423T201141CEST-3848fUMJCr@horsealert.local
DTSTAMP:20260423T180441Z
CATEGORIES:Horse Alerts
DESCRIPTION:Hillhouse Quarry Handicap Chase \(Listed\)
DTSTART:20150417T150500
LOCATION:Scotland
SUMMARY:Horse Racing:Hillhouse Quarry Handicap Chase \(Listed\)
END:VEVENT
END:VCALENDAR
