BEGIN:VCALENDAR
VERSION:2.0
PRODID:-//horsealert.local//NONSGML kigkonsult.se iCalcreator 2.10.5//
CALSCALE:GREGORIAN
X-WR-TIMEZONE:Europe/Dublin
BEGIN:VTIMEZONE
TZID:Etc/GMT-1
BEGIN:STANDARD
DTSTART:20010101T000000
TZOFFSETFROM:+0100
TZOFFSETTO:+0100
TZNAME:GMT +01:00
END:STANDARD
END:VTIMEZONE
BEGIN:VEVENT
UID:20260423T200824CEST-0229MPrF6f@horsealert.local
DTSTAMP:20260423T180424Z
CATEGORIES:Horse Alerts
DESCRIPTION:www.limerickraces.ie Online Special Packages Handicap \(50-80\)
DTSTART:20150416T160000
LOCATION:Eire
SUMMARY:Horse Racing:www.limerickraces.ie Online Special Packages Handicap 
 \(50-80\)
END:VEVENT
END:VCALENDAR
