BEGIN:VCALENDAR
VERSION:2.0
PRODID:-//horsealert.local//NONSGML kigkonsult.se iCalcreator 2.10.5//
CALSCALE:GREGORIAN
X-WR-TIMEZONE:Europe/Dublin
BEGIN:VTIMEZONE
TZID:Etc/GMT-1
BEGIN:STANDARD
DTSTART:20010101T000000
TZOFFSETFROM:+0100
TZOFFSETTO:+0100
TZNAME:GMT +01:00
END:STANDARD
END:VTIMEZONE
BEGIN:VEVENT
UID:20260423T200822CEST-31216fa0rP@horsealert.local
DTSTAMP:20260423T180422Z
CATEGORIES:Horse Alerts
DESCRIPTION:EBF Eat Sleep & Drink At Nags Head Pickhill Maiden Fillies\' St
 akes \(Plus 10\)
DTSTART:20150416T135500
LOCATION:England
SUMMARY:Horse Racing:EBF Eat Sleep & Drink At Nags Head Pickhill Maiden Fil
 lies\' Stakes \(Plus 10\)
END:VEVENT
END:VCALENDAR
