BEGIN:VCALENDAR
VERSION:2.0
PRODID:-//horsealert.local//NONSGML kigkonsult.se iCalcreator 2.10.5//
CALSCALE:GREGORIAN
X-WR-TIMEZONE:Europe/Dublin
BEGIN:VTIMEZONE
TZID:Etc/GMT-1
BEGIN:STANDARD
DTSTART:20010101T000000
TZOFFSETFROM:+0100
TZOFFSETTO:+0100
TZNAME:GMT +01:00
END:STANDARD
END:VTIMEZONE
BEGIN:VEVENT
UID:20260423T200652CEST-6408XbernU@horsealert.local
DTSTAMP:20260423T180452Z
CATEGORIES:Horse Alerts
DESCRIPTION:200\,000 Tattersalls Millions 3-Y-O Trophy
DTSTART:20150416T145500
LOCATION:England
SUMMARY:Horse Racing:200\,000 Tattersalls Millions 3-Y-O Trophy
END:VEVENT
END:VCALENDAR
