BEGIN:VCALENDAR
VERSION:2.0
PRODID:-//horsealert.local//NONSGML kigkonsult.se iCalcreator 2.10.5//
CALSCALE:GREGORIAN
X-WR-TIMEZONE:Europe/Dublin
BEGIN:VTIMEZONE
TZID:Etc/GMT-1
BEGIN:STANDARD
DTSTART:20010101T000000
TZOFFSETFROM:+0100
TZOFFSETTO:+0100
TZNAME:GMT +01:00
END:STANDARD
END:VTIMEZONE
BEGIN:VEVENT
UID:20260423T200935CEST-7400ET8lME@horsealert.local
DTSTAMP:20260423T180435Z
CATEGORIES:Horse Alerts
DESCRIPTION:Teenage Cancer Trust Silver Trophy Chase \(Grade 2 Limited Hand
 icap\)
DTSTART:20150415T155000
LOCATION:England
SUMMARY:Horse Racing:Teenage Cancer Trust Silver Trophy Chase \(Grade 2 Lim
 ited Handicap\)
END:VEVENT
END:VCALENDAR
