BEGIN:VCALENDAR
VERSION:2.0
PRODID:-//horsealert.local//NONSGML kigkonsult.se iCalcreator 2.10.5//
CALSCALE:GREGORIAN
X-WR-TIMEZONE:Europe/Dublin
BEGIN:VTIMEZONE
TZID:Etc/GMT-1
BEGIN:STANDARD
DTSTART:20010101T000000
TZOFFSETFROM:+0100
TZOFFSETTO:+0100
TZNAME:GMT +01:00
END:STANDARD
END:VTIMEZONE
BEGIN:VEVENT
UID:20260423T200936CEST-90747ve9k0@horsealert.local
DTSTAMP:20260423T180436Z
CATEGORIES:Horse Alerts
DESCRIPTION:Langdale Bloodstock Handicap Hurdle \(Div 1\)
DTSTART:20150413T150000
LOCATION:Scotland
SUMMARY:Horse Racing:Langdale Bloodstock Handicap Hurdle \(Div 1\)
END:VEVENT
END:VCALENDAR
