BEGIN:VCALENDAR
VERSION:2.0
PRODID:-//horsealert.local//NONSGML kigkonsult.se iCalcreator 2.10.5//
CALSCALE:GREGORIAN
X-WR-TIMEZONE:Europe/Dublin
BEGIN:VTIMEZONE
TZID:Etc/GMT-1
BEGIN:STANDARD
DTSTART:20010101T000000
TZOFFSETFROM:+0100
TZOFFSETTO:+0100
TZNAME:GMT +01:00
END:STANDARD
END:VTIMEZONE
BEGIN:VEVENT
UID:20260423T201147CEST-3361OpIbB7@horsealert.local
DTSTAMP:20260423T180447Z
CATEGORIES:Horse Alerts
DESCRIPTION:Best Price Guarantee At thetote.com Handicap Chase \(0-95\)
DTSTART:20150413T185000
LOCATION:Eire
SUMMARY:Horse Racing:Best Price Guarantee At thetote.com Handicap Chase \(0
 -95\)
END:VEVENT
END:VCALENDAR
