BEGIN:VCALENDAR
VERSION:2.0
PRODID:-//horsealert.local//NONSGML kigkonsult.se iCalcreator 2.10.5//
CALSCALE:GREGORIAN
X-WR-TIMEZONE:Europe/Dublin
BEGIN:VTIMEZONE
TZID:Etc/GMT-1
BEGIN:STANDARD
DTSTART:20010101T000000
TZOFFSETFROM:+0100
TZOFFSETTO:+0100
TZNAME:GMT +01:00
END:STANDARD
END:VTIMEZONE
BEGIN:VEVENT
UID:20260423T200903CEST-5575iVv7D6@horsealert.local
DTSTAMP:20260423T180403Z
CATEGORIES:Horse Alerts
DESCRIPTION:racinguk.com/anywhere: 3 Devices\, 1 Price Fillies\' Handicap
DTSTART:20150413T165000
LOCATION:England
SUMMARY:Horse Racing:racinguk.com/anywhere: 3 Devices\, 1 Price Fillies\' H
 andicap
END:VEVENT
END:VCALENDAR
