BEGIN:VCALENDAR
VERSION:2.0
PRODID:-//horsealert.local//NONSGML kigkonsult.se iCalcreator 2.10.5//
CALSCALE:GREGORIAN
X-WR-TIMEZONE:Europe/Dublin
BEGIN:VTIMEZONE
TZID:Etc/GMT-1
BEGIN:STANDARD
DTSTART:20010101T000000
TZOFFSETFROM:+0100
TZOFFSETTO:+0100
TZNAME:GMT +01:00
END:STANDARD
END:VTIMEZONE
BEGIN:VEVENT
UID:20260423T201003CEST-8860lb7oRX@horsealert.local
DTSTAMP:20260423T180403Z
CATEGORIES:Horse Alerts
DESCRIPTION:Bet On All UK Racing With totepool Conditional Jockeys\' Sellin
 g Hurdle
DTSTART:20150412T150500
LOCATION:Wales
SUMMARY:Horse Racing:Bet On All UK Racing With totepool Conditional Jockeys
 \' Selling Hurdle
END:VEVENT
END:VCALENDAR
