BEGIN:VCALENDAR
VERSION:2.0
PRODID:-//horsealert.local//NONSGML kigkonsult.se iCalcreator 2.10.5//
CALSCALE:GREGORIAN
X-WR-TIMEZONE:Europe/Dublin
BEGIN:VTIMEZONE
TZID:Etc/GMT-1
BEGIN:STANDARD
DTSTART:20010101T000000
TZOFFSETFROM:+0100
TZOFFSETTO:+0100
TZNAME:GMT +01:00
END:STANDARD
END:VTIMEZONE
BEGIN:VEVENT
UID:20260423T201050CEST-7995m5mGnJ@horsealert.local
DTSTAMP:20260423T180450Z
CATEGORIES:Horse Alerts
DESCRIPTION:Sponsor A Race At Tramore Racecourse In 2015 \(C & G\) \(Pro/Am
 \) Flat Race
DTSTART:20150412T173500
LOCATION:Eire
SUMMARY:Horse Racing:Sponsor A Race At Tramore Racecourse In 2015 \(C & G\)
  \(Pro/Am\) Flat Race
END:VEVENT
END:VCALENDAR
