BEGIN:VCALENDAR
VERSION:2.0
PRODID:-//horsealert.local//NONSGML kigkonsult.se iCalcreator 2.10.5//
CALSCALE:GREGORIAN
X-WR-TIMEZONE:Europe/Dublin
BEGIN:VTIMEZONE
TZID:Etc/GMT-1
BEGIN:STANDARD
DTSTART:20010101T000000
TZOFFSETFROM:+0100
TZOFFSETTO:+0100
TZNAME:GMT +01:00
END:STANDARD
END:VTIMEZONE
BEGIN:VEVENT
UID:20260423T200759CEST-6907uKkWuw@horsealert.local
DTSTAMP:20260423T180459Z
CATEGORIES:Horse Alerts
DESCRIPTION:Silver Cross Stayers\' Hurdle \(Registered As The Liverpool Hur
 dle\) \(Grade 1\)
DTSTART:20150411T145000
LOCATION:England
SUMMARY:Horse Racing:Silver Cross Stayers\' Hurdle \(Registered As The Live
 rpool Hurdle\) \(Grade 1\)
END:VEVENT
END:VCALENDAR
