BEGIN:VCALENDAR
VERSION:2.0
PRODID:-//horsealert.local//NONSGML kigkonsult.se iCalcreator 2.10.5//
CALSCALE:GREGORIAN
X-WR-TIMEZONE:Europe/Dublin
BEGIN:VTIMEZONE
TZID:Etc/GMT-1
BEGIN:STANDARD
DTSTART:20010101T000000
TZOFFSETFROM:+0100
TZOFFSETTO:+0100
TZNAME:GMT +01:00
END:STANDARD
END:VTIMEZONE
BEGIN:VEVENT
UID:20260423T200803CEST-2475xfAFO3@horsealert.local
DTSTAMP:20260423T180403Z
CATEGORIES:Horse Alerts
DESCRIPTION:Cahore Point Handicap Hurdle \(80-95\) \(Div 1\)
DTSTART:20150410T155500
LOCATION:Eire
SUMMARY:Horse Racing:Cahore Point Handicap Hurdle \(80-95\) \(Div 1\)
END:VEVENT
END:VCALENDAR
