BEGIN:VCALENDAR
VERSION:2.0
PRODID:-//horsealert.local//NONSGML kigkonsult.se iCalcreator 2.10.5//
CALSCALE:GREGORIAN
X-WR-TIMEZONE:Europe/Dublin
BEGIN:VTIMEZONE
TZID:Etc/GMT-1
BEGIN:STANDARD
DTSTART:20010101T000000
TZOFFSETFROM:+0100
TZOFFSETTO:+0100
TZNAME:GMT +01:00
END:STANDARD
END:VTIMEZONE
BEGIN:VEVENT
UID:20260423T200756CEST-18679kOCVu@horsealert.local
DTSTAMP:20260423T180456Z
CATEGORIES:Horse Alerts
DESCRIPTION:I.N.H. Stallion Owners E.B.F. Novice Handicap Hurdle Series Fin
 al \(Grade B\)
DTSTART:20150407T162500
LOCATION:Eire
SUMMARY:Horse Racing:I.N.H. Stallion Owners E.B.F. Novice Handicap Hurdle S
 eries Final \(Grade B\)
END:VEVENT
END:VCALENDAR
