BEGIN:VCALENDAR
VERSION:2.0
PRODID:-//horsealert.local//NONSGML kigkonsult.se iCalcreator 2.10.5//
CALSCALE:GREGORIAN
X-WR-TIMEZONE:Europe/Dublin
BEGIN:VTIMEZONE
TZID:Etc/GMT-1
BEGIN:STANDARD
DTSTART:20010101T000000
TZOFFSETFROM:+0100
TZOFFSETTO:+0100
TZNAME:GMT +01:00
END:STANDARD
END:VTIMEZONE
BEGIN:VEVENT
UID:20260423T200900CEST-4606GrE0hl@horsealert.local
DTSTAMP:20260423T180400Z
CATEGORIES:Horse Alerts
DESCRIPTION:32Red On The App Store Conditional Jockeys\' Handicap Hurdle
DTSTART:20150406T165000
LOCATION:England
SUMMARY:Horse Racing:32Red On The App Store Conditional Jockeys\' Handicap 
 Hurdle
END:VEVENT
END:VCALENDAR
