BEGIN:VCALENDAR
VERSION:2.0
PRODID:-//horsealert.local//NONSGML kigkonsult.se iCalcreator 2.10.5//
CALSCALE:GREGORIAN
X-WR-TIMEZONE:Europe/Dublin
BEGIN:VTIMEZONE
TZID:Etc/GMT-1
BEGIN:STANDARD
DTSTART:20010101T000000
TZOFFSETFROM:+0100
TZOFFSETTO:+0100
TZNAME:GMT +01:00
END:STANDARD
END:VTIMEZONE
BEGIN:VEVENT
UID:20260423T201326CEST-07733i3jiv@horsealert.local
DTSTAMP:20260423T180426Z
CATEGORIES:Horse Alerts
DESCRIPTION:Big C Ladies Raceday 31st May Selling Hurdle
DTSTART:20150406T135500
LOCATION:England
SUMMARY:Horse Racing:Big C Ladies Raceday 31st May Selling Hurdle
END:VEVENT
END:VCALENDAR
