BEGIN:VCALENDAR
VERSION:2.0
PRODID:-//horsealert.local//NONSGML kigkonsult.se iCalcreator 2.10.5//
CALSCALE:GREGORIAN
X-WR-TIMEZONE:Europe/Dublin
BEGIN:VTIMEZONE
TZID:Etc/GMT-1
BEGIN:STANDARD
DTSTART:20010101T000000
TZOFFSETFROM:+0100
TZOFFSETTO:+0100
TZNAME:GMT +01:00
END:STANDARD
END:VTIMEZONE
BEGIN:VEVENT
UID:20260423T201312CEST-80422eVAVz@horsealert.local
DTSTAMP:20260423T180412Z
CATEGORIES:Horse Alerts
DESCRIPTION:Powells Chartered Surveyors - Rural Property Specialists Handic
 ap Hurdle
DTSTART:20150406T151500
LOCATION:Wales
SUMMARY:Horse Racing:Powells Chartered Surveyors - Rural Property Specialis
 ts Handicap Hurdle
END:VEVENT
END:VCALENDAR
