BEGIN:VCALENDAR
VERSION:2.0
PRODID:-//horsealert.local//NONSGML kigkonsult.se iCalcreator 2.10.5//
CALSCALE:GREGORIAN
X-WR-TIMEZONE:Europe/Dublin
BEGIN:VTIMEZONE
TZID:Etc/GMT-1
BEGIN:STANDARD
DTSTART:20010101T000000
TZOFFSETFROM:+0100
TZOFFSETTO:+0100
TZNAME:GMT +01:00
END:STANDARD
END:VTIMEZONE
BEGIN:VEVENT
UID:20260423T200644CEST-7585rakvFx@horsealert.local
DTSTAMP:20260423T180444Z
CATEGORIES:Horse Alerts
DESCRIPTION:Green & Co Accountants Mares\' Novices\' Hurdle
DTSTART:20150406T130000
LOCATION:Wales
SUMMARY:Horse Racing:Green & Co Accountants Mares\' Novices\' Hurdle
END:VEVENT
END:VCALENDAR
