BEGIN:VCALENDAR
VERSION:2.0
PRODID:-//horsealert.local//NONSGML kigkonsult.se iCalcreator 2.10.5//
CALSCALE:GREGORIAN
X-WR-TIMEZONE:Europe/Dublin
BEGIN:VTIMEZONE
TZID:Etc/GMT-1
BEGIN:STANDARD
DTSTART:20010101T000000
TZOFFSETFROM:+0100
TZOFFSETTO:+0100
TZNAME:GMT +01:00
END:STANDARD
END:VTIMEZONE
BEGIN:VEVENT
UID:20260423T200821CEST-3844UmkfEe@horsealert.local
DTSTAMP:20260423T180421Z
CATEGORIES:Horse Alerts
DESCRIPTION:Keith And Jenny Dewar Golden Wedding Anniversary Conditional Jo
 ckeys\' Handicap Chase
DTSTART:20150404T135000
LOCATION:England
SUMMARY:Horse Racing:Keith And Jenny Dewar Golden Wedding Anniversary Condi
 tional Jockeys\' Handicap Chase
END:VEVENT
END:VCALENDAR
