BEGIN:VCALENDAR
VERSION:2.0
PRODID:-//horsealert.local//NONSGML kigkonsult.se iCalcreator 2.10.5//
CALSCALE:GREGORIAN
X-WR-TIMEZONE:Europe/Dublin
BEGIN:VTIMEZONE
TZID:Etc/GMT-1
BEGIN:STANDARD
DTSTART:20010101T000000
TZOFFSETFROM:+0100
TZOFFSETTO:+0100
TZNAME:GMT +01:00
END:STANDARD
END:VTIMEZONE
BEGIN:VEVENT
UID:20260423T200825CEST-5695vdTi7P@horsealert.local
DTSTAMP:20260423T180425Z
CATEGORIES:Horse Alerts
DESCRIPTION:888sport AP\'s Last Ride At Haydock \'Fixed Brush\' Novices\' H
 andicap Hurdle
DTSTART:20150404T162000
LOCATION:England
SUMMARY:Horse Racing:888sport AP\'s Last Ride At Haydock \'Fixed Brush\' No
 vices\' Handicap Hurdle
END:VEVENT
END:VCALENDAR
