BEGIN:VCALENDAR
VERSION:2.0
PRODID:-//horsealert.local//NONSGML kigkonsult.se iCalcreator 2.10.5//
CALSCALE:GREGORIAN
X-WR-TIMEZONE:Europe/Dublin
BEGIN:VTIMEZONE
TZID:Etc/GMT-1
BEGIN:STANDARD
DTSTART:20010101T000000
TZOFFSETFROM:+0100
TZOFFSETTO:+0100
TZNAME:GMT +01:00
END:STANDARD
END:VTIMEZONE
BEGIN:VEVENT
UID:20260423T201003CEST-7117LDOuhC@horsealert.local
DTSTAMP:20260423T180403Z
CATEGORIES:Horse Alerts
DESCRIPTION:totepool Borderlescott Sprint Trophy \(Conditions Race\)
DTSTART:20150403T153000
LOCATION:Scotland
SUMMARY:Horse Racing:totepool Borderlescott Sprint Trophy \(Conditions Race
 \)
END:VEVENT
END:VCALENDAR
