BEGIN:VCALENDAR
VERSION:2.0
PRODID:-//horsealert.local//NONSGML kigkonsult.se iCalcreator 2.10.5//
CALSCALE:GREGORIAN
X-WR-TIMEZONE:Europe/Dublin
BEGIN:VTIMEZONE
TZID:Etc/GMT-1
BEGIN:STANDARD
DTSTART:20010101T000000
TZOFFSETFROM:+0100
TZOFFSETTO:+0100
TZNAME:GMT +01:00
END:STANDARD
END:VTIMEZONE
BEGIN:VEVENT
UID:20260423T201230CEST-7532nANfp3@horsealert.local
DTSTAMP:20260423T180430Z
CATEGORIES:Horse Alerts
DESCRIPTION:Bromfield Sand & Gravel Handicap Chase \(For The Oakly Park Cha
 llenge Cup\)
DTSTART:20150402T160000
LOCATION:England
SUMMARY:Horse Racing:Bromfield Sand & Gravel Handicap Chase \(For The Oakly
  Park Challenge Cup\)
END:VEVENT
END:VCALENDAR
