BEGIN:VCALENDAR
VERSION:2.0
PRODID:-//horsealert.local//NONSGML kigkonsult.se iCalcreator 2.10.5//
CALSCALE:GREGORIAN
X-WR-TIMEZONE:Europe/Dublin
BEGIN:VTIMEZONE
TZID:Etc/GMT-1
BEGIN:STANDARD
DTSTART:20010101T000000
TZOFFSETFROM:+0100
TZOFFSETTO:+0100
TZNAME:GMT +01:00
END:STANDARD
END:VTIMEZONE
BEGIN:VEVENT
UID:20260423T201007CEST-6636Ek297K@horsealert.local
DTSTAMP:20260423T180407Z
CATEGORIES:Horse Alerts
DESCRIPTION:Bet & Watch At winner.co.uk \'Newcomers\' Standard Open NH Flat
  Race \(Div 1\)
DTSTART:20150401T165000
LOCATION:England
SUMMARY:Horse Racing:Bet & Watch At winner.co.uk \'Newcomers\' Standard Ope
 n NH Flat Race \(Div 1\)
END:VEVENT
END:VCALENDAR
