BEGIN:VCALENDAR
VERSION:2.0
PRODID:-//horsealert.local//NONSGML kigkonsult.se iCalcreator 2.10.5//
CALSCALE:GREGORIAN
X-WR-TIMEZONE:Europe/Dublin
BEGIN:VTIMEZONE
TZID:Etc/GMT-1
BEGIN:STANDARD
DTSTART:20010101T000000
TZOFFSETFROM:+0100
TZOFFSETTO:+0100
TZNAME:GMT +01:00
END:STANDARD
END:VTIMEZONE
BEGIN:VEVENT
UID:20260423T212923CEST-0816X8IcnS@horsealert.local
DTSTAMP:20260423T190423Z
CATEGORIES:Horse Alerts
DESCRIPTION:More Jump Racing On 20.04.15 Mares\' Intermediate Open NH Flat 
 Race
DTSTART:20150330T172500
LOCATION:England
SUMMARY:Horse Racing:More Jump Racing On 20.04.15 Mares\' Intermediate Open
  NH Flat Race
END:VEVENT
END:VCALENDAR
