BEGIN:VCALENDAR
VERSION:2.0
PRODID:-//horsealert.local//NONSGML kigkonsult.se iCalcreator 2.10.5//
CALSCALE:GREGORIAN
X-WR-TIMEZONE:Europe/Dublin
BEGIN:VTIMEZONE
TZID:Etc/GMT-1
BEGIN:STANDARD
DTSTART:20010101T000000
TZOFFSETFROM:+0100
TZOFFSETTO:+0100
TZNAME:GMT +01:00
END:STANDARD
END:VTIMEZONE
BEGIN:VEVENT
UID:20260423T213112CEST-32700RB10N@horsealert.local
DTSTAMP:20260423T190412Z
CATEGORIES:Horse Alerts
DESCRIPTION:Betdaq 50% Comm Refund Doncaster Shield \(Conditions Stakes\)
DTSTART:20150329T155500
LOCATION:England
SUMMARY:Horse Racing:Betdaq 50% Comm Refund Doncaster Shield \(Conditions S
 takes\)
END:VEVENT
END:VCALENDAR
