BEGIN:VCALENDAR
VERSION:2.0
PRODID:-//horsealert.local//NONSGML kigkonsult.se iCalcreator 2.10.5//
CALSCALE:GREGORIAN
X-WR-TIMEZONE:Europe/Dublin
BEGIN:VTIMEZONE
TZID:Etc/GMT-1
BEGIN:STANDARD
DTSTART:20010101T000000
TZOFFSETFROM:+0100
TZOFFSETTO:+0100
TZNAME:GMT +01:00
END:STANDARD
END:VTIMEZONE
BEGIN:VEVENT
UID:20260423T213043CEST-431498rv6D@horsealert.local
DTSTAMP:20260423T190443Z
CATEGORIES:Horse Alerts
DESCRIPTION:Betfred TV Conditional Jockeys\' Training Series Maiden Hurdle 
 \(Part Of The Racing Excellence Initiative\)
DTSTART:20150328T133500
LOCATION:England
SUMMARY:Horse Racing:Betfred TV Conditional Jockeys\' Training Series Maide
 n Hurdle \(Part Of The Racing Excellence Initiative\)
END:VEVENT
END:VCALENDAR
