BEGIN:VCALENDAR
VERSION:2.0
PRODID:-//horsealert.local//NONSGML kigkonsult.se iCalcreator 2.10.5//
CALSCALE:GREGORIAN
X-WR-TIMEZONE:Europe/Dublin
BEGIN:VTIMEZONE
TZID:Etc/GMT-1
BEGIN:STANDARD
DTSTART:20010101T000000
TZOFFSETFROM:+0100
TZOFFSETTO:+0100
TZNAME:GMT +01:00
END:STANDARD
END:VTIMEZONE
BEGIN:VEVENT
UID:20260423T213103CEST-604298mBt1@horsealert.local
DTSTAMP:20260423T190403Z
CATEGORIES:Horse Alerts
DESCRIPTION:Buy Online At chelmsfordcityracecourse.com Maiden Stakes
DTSTART:20150328T142000
LOCATION:England
SUMMARY:Horse Racing:Buy Online At chelmsfordcityracecourse.com Maiden Stak
 es
END:VEVENT
END:VCALENDAR
